BEGIN:VCALENDAR
VERSION:2.0
PRODID:-//3D4UbyPedro - ECPv6.15.20//NONSGML v1.0//EN
CALSCALE:GREGORIAN
METHOD:PUBLISH
X-WR-CALNAME:3D4UbyPedro
X-ORIGINAL-URL:https://3d4ubypedro.com
X-WR-CALDESC:Events for 3D4UbyPedro
REFRESH-INTERVAL;VALUE=DURATION:PT1H
X-Robots-Tag:noindex
X-PUBLISHED-TTL:PT1H
BEGIN:VTIMEZONE
TZID:America/Toronto
BEGIN:DAYLIGHT
TZOFFSETFROM:-0500
TZOFFSETTO:-0400
TZNAME:EDT
DTSTART:20240310T070000
END:DAYLIGHT
BEGIN:STANDARD
TZOFFSETFROM:-0400
TZOFFSETTO:-0500
TZNAME:EST
DTSTART:20241103T060000
END:STANDARD
BEGIN:DAYLIGHT
TZOFFSETFROM:-0500
TZOFFSETTO:-0400
TZNAME:EDT
DTSTART:20250309T070000
END:DAYLIGHT
BEGIN:STANDARD
TZOFFSETFROM:-0400
TZOFFSETTO:-0500
TZNAME:EST
DTSTART:20251102T060000
END:STANDARD
BEGIN:DAYLIGHT
TZOFFSETFROM:-0500
TZOFFSETTO:-0400
TZNAME:EDT
DTSTART:20260308T070000
END:DAYLIGHT
BEGIN:STANDARD
TZOFFSETFROM:-0400
TZOFFSETTO:-0500
TZNAME:EST
DTSTART:20261101T060000
END:STANDARD
BEGIN:DAYLIGHT
TZOFFSETFROM:-0500
TZOFFSETTO:-0400
TZNAME:EDT
DTSTART:20270314T070000
END:DAYLIGHT
BEGIN:STANDARD
TZOFFSETFROM:-0400
TZOFFSETTO:-0500
TZNAME:EST
DTSTART:20271107T060000
END:STANDARD
END:VTIMEZONE
BEGIN:VEVENT
DTSTART;TZID=America/Toronto:20251129T100000
DTEND;TZID=America/Toronto:20251129T160000
DTSTAMP:20260421T200736
CREATED:20251028T205437Z
LAST-MODIFIED:20251028T205437Z
UID:2523-1764410400-1764432000@3d4ubypedro.com
SUMMARY:Hintonburg Artisan Craft Fair
DESCRIPTION:Amazing opportunity to see our creations. Come by and prepared to be amazed. \n  \nThe Hintonburg Artisan Craft Fair has been a prominent event in our community throughout the years. In addition to showcasing local crafters\, this event features a bake sale\, hot chilli lunch\, a silent auction and lots of familiar faces and good cheer! \n  \n1064 Wellington Street West \nOttawa\, ON K1Y 2Y3
URL:https://3d4ubypedro.com/event/hintonburg-artisan-craft-fair/
END:VEVENT
BEGIN:VEVENT
DTSTART;TZID=America/Toronto:20251206T090000
DTEND;TZID=America/Toronto:20251206T150000
DTSTAMP:20260421T200736
CREATED:20251028T205908Z
LAST-MODIFIED:20251028T211158Z
UID:2525-1765011600-1765033200@3d4ubypedro.com
SUMMARY:Christmas market at the Cumberland Farmers market
DESCRIPTION:Last opportunity of the year to get your 3D4UbyPedro Gear \nYou wont be disappointment\, but first you have to find us.
URL:https://3d4ubypedro.com/event/christmas-market-at-the-cumberland-farmers-market/
LOCATION:Cumberland Farmers’ Market\, 1115 Dunning Road\, Cumberland\, Ontario\, Canada
END:VEVENT
BEGIN:VEVENT
DTSTART;TZID=America/Toronto:20251213T090000
DTEND;TZID=America/Toronto:20251213T150000
DTSTAMP:20260421T200736
CREATED:20251028T211009Z
LAST-MODIFIED:20251028T211009Z
UID:2534-1765616400-1765638000@3d4ubypedro.com
SUMMARY:Russell Flea market
DESCRIPTION:Hosts over 60 vendors featuring a selection of handcrafted and homemade goods alongside antiques and other vendors.
URL:https://3d4ubypedro.com/event/russell-flea-market/
LOCATION:Russell Flea Market\, 982 N. Russell Rd\, Russell\, Ontario\, Canada
END:VEVENT
BEGIN:VEVENT
DTSTART;TZID=America/Toronto:20260620T090000
DTEND;TZID=America/Toronto:20260620T130000
DTSTAMP:20260421T200736
CREATED:20260407T165124Z
LAST-MODIFIED:20260407T165124Z
UID:2790-1781946000-1781960400@3d4ubypedro.com
SUMMARY:Cumberland Farmer Market
DESCRIPTION:Cumberland Farmers’ Market   1115 Dunning Road\, Cumberland\, Ontario\, Canada \n\n\nCome and find us at the Cumberland Farmer Market. The wooden art you’ve been looking for.
URL:https://3d4ubypedro.com/event/cumberland-farmer-market/
LOCATION:Cumberland Farmers’ Market\, 1115 Dunning Road\, Cumberland\, Ontario\, Canada
END:VEVENT
BEGIN:VEVENT
DTSTART;TZID=America/Toronto:20260718T090000
DTEND;TZID=America/Toronto:20260718T130000
DTSTAMP:20260421T200736
CREATED:20260407T165759Z
LAST-MODIFIED:20260407T165759Z
UID:2794-1784365200-1784379600@3d4ubypedro.com
SUMMARY:Cumberland farmer market
DESCRIPTION:Come and find us at the Cumberland Farmer Market. \nThe wooden art you’ve been looking for.
URL:https://3d4ubypedro.com/event/cumberland-farmer-market-2/
END:VEVENT
BEGIN:VEVENT
DTSTART;TZID=America/Toronto:20260822T090000
DTEND;TZID=America/Toronto:20260822T130000
DTSTAMP:20260421T200736
CREATED:20260407T165605Z
LAST-MODIFIED:20260407T165605Z
UID:2792-1787389200-1787403600@3d4ubypedro.com
SUMMARY:
DESCRIPTION:Come and find us at the Cumberland Farmer Market. \nThe wooden art you’ve been looking for.
URL:https://3d4ubypedro.com/event/2792/
END:VEVENT
END:VCALENDAR