BEGIN:VCALENDAR
VERSION:2.0
PRODID:-//3D4UbyPedro - ECPv6.15.20//NONSGML v1.0//EN
CALSCALE:GREGORIAN
METHOD:PUBLISH
X-ORIGINAL-URL:https://3d4ubypedro.com
X-WR-CALDESC:Events for 3D4UbyPedro
REFRESH-INTERVAL;VALUE=DURATION:PT1H
X-Robots-Tag:noindex
X-PUBLISHED-TTL:PT1H
BEGIN:VTIMEZONE
TZID:America/Toronto
BEGIN:DAYLIGHT
TZOFFSETFROM:-0500
TZOFFSETTO:-0400
TZNAME:EDT
DTSTART:20220313T070000
END:DAYLIGHT
BEGIN:STANDARD
TZOFFSETFROM:-0400
TZOFFSETTO:-0500
TZNAME:EST
DTSTART:20221106T060000
END:STANDARD
BEGIN:DAYLIGHT
TZOFFSETFROM:-0500
TZOFFSETTO:-0400
TZNAME:EDT
DTSTART:20230312T070000
END:DAYLIGHT
BEGIN:STANDARD
TZOFFSETFROM:-0400
TZOFFSETTO:-0500
TZNAME:EST
DTSTART:20231105T060000
END:STANDARD
BEGIN:DAYLIGHT
TZOFFSETFROM:-0500
TZOFFSETTO:-0400
TZNAME:EDT
DTSTART:20240310T070000
END:DAYLIGHT
BEGIN:STANDARD
TZOFFSETFROM:-0400
TZOFFSETTO:-0500
TZNAME:EST
DTSTART:20241103T060000
END:STANDARD
END:VTIMEZONE
BEGIN:VEVENT
DTSTART;TZID=America/Toronto:20231104T100000
DTEND;TZID=America/Toronto:20231104T150000
DTSTAMP:20260425T213047
CREATED:20230724T220636Z
LAST-MODIFIED:20230724T220651Z
UID:2310-1699092000-1699110000@3d4ubypedro.com
SUMMARY:All Saints High School Craft Fair
DESCRIPTION:Kanata’s largest Craft Fair with over 150 tables selling fine crafts and gifts. The fair runs annual.
URL:https://3d4ubypedro.com/event/all-saints-high-school-craft-fair/
LOCATION:All Saints High School Craft Fair\, 5115 Kanata Ave\, Kanata\, Ontario\, K2K 3M5\, Canada
ATTACH;FMTTYPE=image/jpeg:https://3d4ubypedro.com/wp-content/uploads/2023/06/heart-candle-holder.jpeg
END:VEVENT
BEGIN:VEVENT
DTSTART;TZID=America/Toronto:20231111T100000
DTEND;TZID=America/Toronto:20231112T160000
DTSTAMP:20260425T213047
CREATED:20230724T221510Z
LAST-MODIFIED:20230731T125147Z
UID:2314-1699696800-1699804800@3d4ubypedro.com
SUMMARY:The Holiday Magic Craft Show
DESCRIPTION:Hosted by the National Capital Artisans. \nThere’ll be over 60 local artisans selling their amazing handcrafted works\, with many favourite vendors returning. Whatever you’re looking for you’re sure to find. \n2 days of fun shopping.
URL:https://3d4ubypedro.com/event/2314/
ATTACH;FMTTYPE=image/jpeg:https://3d4ubypedro.com/wp-content/uploads/2023/06/crescent-moon.jpg
END:VEVENT
END:VCALENDAR