BEGIN:VCALENDAR
VERSION:2.0
PRODID:-//3D4UbyPedro - ECPv6.15.20//NONSGML v1.0//EN
CALSCALE:GREGORIAN
METHOD:PUBLISH
X-ORIGINAL-URL:https://3d4ubypedro.com
X-WR-CALDESC:Events for 3D4UbyPedro
REFRESH-INTERVAL;VALUE=DURATION:PT1H
X-Robots-Tag:noindex
X-PUBLISHED-TTL:PT1H
BEGIN:VTIMEZONE
TZID:America/Toronto
BEGIN:DAYLIGHT
TZOFFSETFROM:-0500
TZOFFSETTO:-0400
TZNAME:EDT
DTSTART:20230312T070000
END:DAYLIGHT
BEGIN:STANDARD
TZOFFSETFROM:-0400
TZOFFSETTO:-0500
TZNAME:EST
DTSTART:20231105T060000
END:STANDARD
BEGIN:DAYLIGHT
TZOFFSETFROM:-0500
TZOFFSETTO:-0400
TZNAME:EDT
DTSTART:20240310T070000
END:DAYLIGHT
BEGIN:STANDARD
TZOFFSETFROM:-0400
TZOFFSETTO:-0500
TZNAME:EST
DTSTART:20241103T060000
END:STANDARD
BEGIN:DAYLIGHT
TZOFFSETFROM:-0500
TZOFFSETTO:-0400
TZNAME:EDT
DTSTART:20250309T070000
END:DAYLIGHT
BEGIN:STANDARD
TZOFFSETFROM:-0400
TZOFFSETTO:-0500
TZNAME:EST
DTSTART:20251102T060000
END:STANDARD
END:VTIMEZONE
BEGIN:VEVENT
DTSTART;TZID=America/Toronto:20240601T090000
DTEND;TZID=America/Toronto:20240601T150000
DTSTAMP:20260423T063633
CREATED:20240519T022842Z
LAST-MODIFIED:20240519T022842Z
UID:2465-1717232400-1717254000@3d4ubypedro.com
SUMMARY:Cumberland Farmer Market --- Spring Market
DESCRIPTION:Come and find us at the Cumberland Farmer Market. \nThe wooden art you’ve been looking for.
URL:https://3d4ubypedro.com/event/cumberland-farmer-market-spring-market/
LOCATION:Cumberland Farmers’ Market\, 1115 Dunning Road\, Cumberland\, Ontario\, Canada
ATTACH;FMTTYPE=image/jpeg:https://3d4ubypedro.com/wp-content/uploads/2023/08/20230819_085103-scaled.jpg
END:VEVENT
END:VCALENDAR