BEGIN:VCALENDAR
VERSION:2.0
PRODID:-//3D4UbyPedro - ECPv6.15.20//NONSGML v1.0//EN
CALSCALE:GREGORIAN
METHOD:PUBLISH
X-ORIGINAL-URL:https://3d4ubypedro.com
X-WR-CALDESC:Events for 3D4UbyPedro
REFRESH-INTERVAL;VALUE=DURATION:PT1H
X-Robots-Tag:noindex
X-PUBLISHED-TTL:PT1H
BEGIN:VTIMEZONE
TZID:America/Toronto
BEGIN:DAYLIGHT
TZOFFSETFROM:-0500
TZOFFSETTO:-0400
TZNAME:EDT
DTSTART:20230312T070000
END:DAYLIGHT
BEGIN:STANDARD
TZOFFSETFROM:-0400
TZOFFSETTO:-0500
TZNAME:EST
DTSTART:20231105T060000
END:STANDARD
BEGIN:DAYLIGHT
TZOFFSETFROM:-0500
TZOFFSETTO:-0400
TZNAME:EDT
DTSTART:20240310T070000
END:DAYLIGHT
BEGIN:STANDARD
TZOFFSETFROM:-0400
TZOFFSETTO:-0500
TZNAME:EST
DTSTART:20241103T060000
END:STANDARD
BEGIN:DAYLIGHT
TZOFFSETFROM:-0500
TZOFFSETTO:-0400
TZNAME:EDT
DTSTART:20250309T070000
END:DAYLIGHT
BEGIN:STANDARD
TZOFFSETFROM:-0400
TZOFFSETTO:-0500
TZNAME:EST
DTSTART:20251102T060000
END:STANDARD
END:VTIMEZONE
BEGIN:VEVENT
DTSTART;TZID=America/Toronto:20240921T093000
DTEND;TZID=America/Toronto:20240921T150000
DTSTAMP:20260423T022637
CREATED:20240922T173630Z
LAST-MODIFIED:20240922T173630Z
UID:2481-1726911000-1726930800@3d4ubypedro.com
SUMMARY:Cumberland Farmer's Market (Harvest market )
DESCRIPTION:Come and visit us for some great wooden art.  Fun for the whole family at the Cumberland Heritage Village Museum .  Free entrance.
URL:https://3d4ubypedro.com/event/cumberland-farmers-market-harvest-market/
LOCATION:Cumberland Farmers’ Market\, 1115 Dunning Road\, Cumberland\, Ontario\, Canada
END:VEVENT
END:VCALENDAR