BEGIN:VCALENDAR
VERSION:2.0
PRODID:-//3D4UbyPedro - ECPv6.15.20//NONSGML v1.0//EN
CALSCALE:GREGORIAN
METHOD:PUBLISH
X-ORIGINAL-URL:https://3d4ubypedro.com
X-WR-CALDESC:Events for 3D4UbyPedro
REFRESH-INTERVAL;VALUE=DURATION:PT1H
X-Robots-Tag:noindex
X-PUBLISHED-TTL:PT1H
BEGIN:VTIMEZONE
TZID:America/Toronto
BEGIN:DAYLIGHT
TZOFFSETFROM:-0500
TZOFFSETTO:-0400
TZNAME:EDT
DTSTART:20230312T070000
END:DAYLIGHT
BEGIN:STANDARD
TZOFFSETFROM:-0400
TZOFFSETTO:-0500
TZNAME:EST
DTSTART:20231105T060000
END:STANDARD
BEGIN:DAYLIGHT
TZOFFSETFROM:-0500
TZOFFSETTO:-0400
TZNAME:EDT
DTSTART:20240310T070000
END:DAYLIGHT
BEGIN:STANDARD
TZOFFSETFROM:-0400
TZOFFSETTO:-0500
TZNAME:EST
DTSTART:20241103T060000
END:STANDARD
BEGIN:DAYLIGHT
TZOFFSETFROM:-0500
TZOFFSETTO:-0400
TZNAME:EDT
DTSTART:20250309T070000
END:DAYLIGHT
BEGIN:STANDARD
TZOFFSETFROM:-0400
TZOFFSETTO:-0500
TZNAME:EST
DTSTART:20251102T060000
END:STANDARD
END:VTIMEZONE
BEGIN:VEVENT
DTSTART;TZID=America/Toronto:20241102T100000
DTEND;TZID=America/Toronto:20241102T150000
DTSTAMP:20260422T190018
CREATED:20240922T174020Z
LAST-MODIFIED:20240922T174334Z
UID:2483-1730541600-1730559600@3d4ubypedro.com
SUMMARY:All Saints 2024 Craft Fair
DESCRIPTION:Come have some fun in our event at All saints high school. We”ll have beautiful wooden art and 3D printed object for you.
URL:https://3d4ubypedro.com/event/all-saints-2024-craft-fair/
LOCATION:All Saints High School Craft Fair\, 5115 Kanata Ave\, Kanata\, Ontario\, K2K 3M5\, Canada
END:VEVENT
BEGIN:VEVENT
DTSTART;TZID=America/Toronto:20241109T100000
DTEND;TZID=America/Toronto:20241110T160000
DTSTAMP:20260422T190018
CREATED:20241109T150029Z
LAST-MODIFIED:20240922T180513Z
UID:2487-1731146400-1731254400@3d4ubypedro.com
SUMMARY:The holiday magic craft show (2 days)
DESCRIPTION:Two day event. See our most amazing wooden and 3D printed crafts. Perfect for that special one in your holiday list.  Each day from 10 -4pm.
URL:https://3d4ubypedro.com/event/the-holiday-magic-craft-show/
END:VEVENT
BEGIN:VEVENT
DTSTART;TZID=America/Toronto:20241123T100000
DTEND;TZID=America/Toronto:20241123T150000
DTSTAMP:20260422T190018
CREATED:20241123T150042Z
LAST-MODIFIED:20240922T180301Z
UID:2485-1732356000-1732374000@3d4ubypedro.com
SUMMARY:St Patrick's HS Christmas Fair
DESCRIPTION:This will be our first show at St. Patrick’s High school. Come and visit us for some great wooden art and 3D printed object. We won’t disappoint.
URL:https://3d4ubypedro.com/event/st-patricks-hs-christmas-fair/
END:VEVENT
END:VCALENDAR