BEGIN:VCALENDAR
VERSION:2.0
PRODID:-//3D4UbyPedro - ECPv6.15.20//NONSGML v1.0//EN
CALSCALE:GREGORIAN
METHOD:PUBLISH
X-ORIGINAL-URL:https://3d4ubypedro.com
X-WR-CALDESC:Events for 3D4UbyPedro
REFRESH-INTERVAL;VALUE=DURATION:PT1H
X-Robots-Tag:noindex
X-PUBLISHED-TTL:PT1H
BEGIN:VTIMEZONE
TZID:America/Toronto
BEGIN:DAYLIGHT
TZOFFSETFROM:-0500
TZOFFSETTO:-0400
TZNAME:EDT
DTSTART:20240310T070000
END:DAYLIGHT
BEGIN:STANDARD
TZOFFSETFROM:-0400
TZOFFSETTO:-0500
TZNAME:EST
DTSTART:20241103T060000
END:STANDARD
BEGIN:DAYLIGHT
TZOFFSETFROM:-0500
TZOFFSETTO:-0400
TZNAME:EDT
DTSTART:20250309T070000
END:DAYLIGHT
BEGIN:STANDARD
TZOFFSETFROM:-0400
TZOFFSETTO:-0500
TZNAME:EST
DTSTART:20251102T060000
END:STANDARD
BEGIN:DAYLIGHT
TZOFFSETFROM:-0500
TZOFFSETTO:-0400
TZNAME:EDT
DTSTART:20260308T070000
END:DAYLIGHT
BEGIN:STANDARD
TZOFFSETFROM:-0400
TZOFFSETTO:-0500
TZNAME:EST
DTSTART:20261101T060000
END:STANDARD
END:VTIMEZONE
BEGIN:VEVENT
DTSTART;TZID=America/Toronto:20250614T100000
DTEND;TZID=America/Toronto:20250614T160000
DTSTAMP:20260422T012816
CREATED:20250502T015629Z
LAST-MODIFIED:20250502T015629Z
UID:2499-1749895200-1749916800@3d4ubypedro.com
SUMMARY:ArtsPark Festival & Market
DESCRIPTION:Come celebrate over 20 years of arts in Hintonburg and immerse yourself in the colourful tapestry of the community! \nJoin us for a FREE fun-filled day of activities for all ages! \nThis event is organized by the Hintonburg Community Association.
URL:https://3d4ubypedro.com/event/artspark-festival-market/
ATTACH;FMTTYPE=image/jpeg:https://3d4ubypedro.com/wp-content/uploads/2023/08/20230819_085139-scaled.jpg
END:VEVENT
END:VCALENDAR