BEGIN:VCALENDAR
VERSION:2.0
PRODID:-//3D4UbyPedro - ECPv6.15.20//NONSGML v1.0//EN
CALSCALE:GREGORIAN
METHOD:PUBLISH
X-WR-CALNAME:3D4UbyPedro
X-ORIGINAL-URL:https://3d4ubypedro.com
X-WR-CALDESC:Events for 3D4UbyPedro
REFRESH-INTERVAL;VALUE=DURATION:PT1H
X-Robots-Tag:noindex
X-PUBLISHED-TTL:PT1H
BEGIN:VTIMEZONE
TZID:America/Toronto
BEGIN:DAYLIGHT
TZOFFSETFROM:-0500
TZOFFSETTO:-0400
TZNAME:EDT
DTSTART:20220313T070000
END:DAYLIGHT
BEGIN:STANDARD
TZOFFSETFROM:-0400
TZOFFSETTO:-0500
TZNAME:EST
DTSTART:20221106T060000
END:STANDARD
BEGIN:DAYLIGHT
TZOFFSETFROM:-0500
TZOFFSETTO:-0400
TZNAME:EDT
DTSTART:20230312T070000
END:DAYLIGHT
BEGIN:STANDARD
TZOFFSETFROM:-0400
TZOFFSETTO:-0500
TZNAME:EST
DTSTART:20231105T060000
END:STANDARD
BEGIN:DAYLIGHT
TZOFFSETFROM:-0500
TZOFFSETTO:-0400
TZNAME:EDT
DTSTART:20240310T070000
END:DAYLIGHT
BEGIN:STANDARD
TZOFFSETFROM:-0400
TZOFFSETTO:-0500
TZNAME:EST
DTSTART:20241103T060000
END:STANDARD
END:VTIMEZONE
BEGIN:VEVENT
DTSTART;TZID=America/Toronto:20231202T090000
DTEND;TZID=America/Toronto:20231202T150000
DTSTAMP:20260422T081943
CREATED:20231009T170155Z
LAST-MODIFIED:20231009T170155Z
UID:2395-1701507600-1701529200@3d4ubypedro.com
SUMMARY:Cumberland Christmas Market
DESCRIPTION:December 2nd9 a.m. to 3 p.m. \n​ \nEverything you need to get ready for the holidays! Wide variety of foods and hand made artisan goods. Gifts ideas for everyone on your list. \n​ \nOver 100 LOCAL ARTISANS at 4 different locations! \n  \nFree parking and free admission. \n\n\n1115 Dunning Rd. (2 halls) \n\n\n2620 Market St. \n\n\n2557 Old Montreal Rd. \n\n\n2565 Old Montreal Rd.
URL:https://3d4ubypedro.com/event/cumberland-christmas-market/
ATTACH;FMTTYPE=image/webp:https://3d4ubypedro.com/wp-content/uploads/2023/10/Christmas-Market.webp
END:VEVENT
END:VCALENDAR